BEGIN:VCALENDAR
VERSION:2.0
PRODID:-//Asian PBNHC - ECPv5.9.1//NONSGML v1.0//EN
CALSCALE:GREGORIAN
METHOD:PUBLISH
X-WR-CALNAME:Asian PBNHC
X-ORIGINAL-URL:http://asianpbnhc.megabackupsite.com
X-WR-CALDESC:Events for Asian PBNHC
BEGIN:VTIMEZONE
TZID:UTC
BEGIN:STANDARD
TZOFFSETFROM:+0000
TZOFFSETTO:+0000
TZNAME:UTC
DTSTART:20230101T000000
END:STANDARD
END:VTIMEZONE
BEGIN:VEVENT
DTSTART;VALUE=DATE:20230911
DTEND;VALUE=DATE:20230912
DTSTAMP:20260424T164143
CREATED:20140731T003401Z
LAST-MODIFIED:20140731T003401Z
UID:17894-1694390400-1694476799@asianpbnhc.megabackupsite.com
SUMMARY:The Annual JLCW Conference
DESCRIPTION:Background tothis event\n	\n\n	Structure ofthe event\n	\n	The Journal of Law and Cyber Warfare symposium brings speakers that are experts with cyber security and cyber warfare from the military\, government\, private industry\, and the public sector. Clearly\, another extremely interesting event if you work in the legal space. \nWe also have a post (and conference list) for Cybersecurity Legal events. \n	If you live and work in the Tri-State area in a Cyber Security and Healthcare capacity then this is a ‘must go’ event. \nThe team behind this conference seem to be on top of their game. If it worth mentioning here that we also have a dedicated post to Healthcare Cybersecurity Events.
URL:http://asianpbnhc.megabackupsite.com/index.php/classes/the-annual-jlcw-conference-2/
LOCATION:Valencia Meet Center\, Valencia St\, San Francisco\, CA\, 900\, United States
CATEGORIES:Design,IT,Security
ATTACH;FMTTYPE=image/jpeg:http://asianpbnhc.megabackupsite.com/wp-content/uploads/2014/07/dark-header-12.jpg
ORGANIZER;CN="Michael":MAILTO:junk@vamtam.com
END:VEVENT
END:VCALENDAR